BEGIN:VCALENDAR
VERSION:2.0
PRODID:-//Unidade Pastoral Sao Jose e Sao Joao Baptista - ECPv6.15.20//NONSGML v1.0//EN
CALSCALE:GREGORIAN
METHOD:PUBLISH
X-ORIGINAL-URL:https://unidadepastoralcoimbra.com
X-WR-CALDESC:Eventos para Unidade Pastoral Sao Jose e Sao Joao Baptista
REFRESH-INTERVAL;VALUE=DURATION:PT1H
X-Robots-Tag:noindex
X-PUBLISHED-TTL:PT1H
BEGIN:VTIMEZONE
TZID:UTC
BEGIN:STANDARD
TZOFFSETFROM:+0000
TZOFFSETTO:+0000
TZNAME:UTC
DTSTART:20250101T000000
END:STANDARD
END:VTIMEZONE
BEGIN:VEVENT
DTSTART;VALUE=DATE:20260402
DTEND;VALUE=DATE:20260403
DTSTAMP:20260421T082149
CREATED:20251223T115340Z
LAST-MODIFIED:20251223T115340Z
UID:7637-1775088000-1775174399@unidadepastoralcoimbra.com
SUMMARY:Quinta-feira da Ceia do Senhor
DESCRIPTION:
URL:https://unidadepastoralcoimbra.com/calendario/quinta-feira-da-ceia-do-senhor/
LOCATION:Igreja São José e São João Baptista\, Coimbra\, Coimbra\, Portugal
CATEGORIES:Missas
END:VEVENT
BEGIN:VEVENT
DTSTART;VALUE=DATE:20260402
DTEND;VALUE=DATE:20260403
DTSTAMP:20260421T082149
CREATED:20260330T131835Z
LAST-MODIFIED:20260330T131924Z
UID:8365-1775088000-1775174399@unidadepastoralcoimbra.com
SUMMARY:Início do tríduo pascal com a Comemoração da Ceia do Senhor e rito do lava-pés (19h00: S. José) e (21h00: S. João Baptista)
DESCRIPTION:
URL:https://unidadepastoralcoimbra.com/calendario/inicio-do-triduo-pascal-com-a-comemoracao-da-ceia-do-senhor-e-rito-do-lava-pes-19h00-s-jose-e-21h00-s-joao-baptista/
LOCATION:Igreja São José e São João Baptista\, Coimbra\, Coimbra\, Portugal
CATEGORIES:Evento Comunitário
END:VEVENT
BEGIN:VEVENT
DTSTART;TZID=UTC:20260402T103000
DTEND;TZID=UTC:20260402T113000
DTSTAMP:20260421T082149
CREATED:20260330T131555Z
LAST-MODIFIED:20260330T131555Z
UID:8363-1775125800-1775129400@unidadepastoralcoimbra.com
SUMMARY:Missa Crismal na Sé Nova de Coimbra com a bênção dos santos óleos e renovação das promessas sacerdotais dos presbíteros
DESCRIPTION:
URL:https://unidadepastoralcoimbra.com/calendario/missa-crismal-na-se-nova-de-coimbra-com-a-bencao-dos-santos-oleos-e-renovacao-das-promessas-sacerdotais-dos-presbiteros/
LOCATION:Sé Nova de Coimbra\, Largo Feira dos Estudantes\, 3000-214\, Coimbra\, Coimbra\, 3000-214\, Portugal
CATEGORIES:Missas
END:VEVENT
BEGIN:VEVENT
DTSTART;VALUE=DATE:20260403
DTEND;VALUE=DATE:20260404
DTSTAMP:20260421T082149
CREATED:20251223T115418Z
LAST-MODIFIED:20251223T115418Z
UID:7640-1775174400-1775260799@unidadepastoralcoimbra.com
SUMMARY:Sexta-feira da Paixão do Senhor
DESCRIPTION:
URL:https://unidadepastoralcoimbra.com/calendario/sexta-feira-da-paixao-do-senhor/
LOCATION:Coimbra
CATEGORIES:Missas
END:VEVENT
BEGIN:VEVENT
DTSTART;VALUE=DATE:20260403
DTEND;VALUE=DATE:20260404
DTSTAMP:20260421T082149
CREATED:20260330T132125Z
LAST-MODIFIED:20260330T132125Z
UID:8367-1775174400-1775260799@unidadepastoralcoimbra.com
SUMMARY:Celebração da Paixão do Senhor com adoração da Santa Cruz (15h00: S. José) e (18h00. S. João Baptista)
DESCRIPTION: 
URL:https://unidadepastoralcoimbra.com/calendario/celebracao-da-paixao-do-senhor-com-adoracao-da-santa-cruz-15h00-s-jose-e-18h00-s-joao-baptista/
LOCATION:Igreja São José e São João Baptista\, Coimbra\, Coimbra\, Portugal
CATEGORIES:Evento Comunitário
END:VEVENT
BEGIN:VEVENT
DTSTART;VALUE=DATE:20260404
DTEND;VALUE=DATE:20260405
DTSTAMP:20260421T082149
CREATED:20251223T115441Z
LAST-MODIFIED:20251223T115441Z
UID:7641-1775260800-1775347199@unidadepastoralcoimbra.com
SUMMARY:Sábado Santo
DESCRIPTION:
URL:https://unidadepastoralcoimbra.com/calendario/sabado-santo-2/
LOCATION:Igreja São José e São João Baptista\, Coimbra\, Coimbra\, Portugal
CATEGORIES:Missas
END:VEVENT
BEGIN:VEVENT
DTSTART;VALUE=DATE:20260404
DTEND;VALUE=DATE:20260405
DTSTAMP:20260421T082149
CREATED:20260330T132340Z
LAST-MODIFIED:20260330T132340Z
UID:8372-1775260800-1775347199@unidadepastoralcoimbra.com
SUMMARY:Dia de silêncio expectante porque o Senhor dorme
DESCRIPTION:
URL:https://unidadepastoralcoimbra.com/calendario/dia-de-silencio-expectante-porque-o-senhor-dorme/
LOCATION:Coimbra
CATEGORIES:Evento Pastoral
END:VEVENT
BEGIN:VEVENT
DTSTART;TZID=UTC:20260404T213000
DTEND;TZID=UTC:20260404T235900
DTSTAMP:20260421T082149
CREATED:20260330T132625Z
LAST-MODIFIED:20260330T132625Z
UID:8374-1775338200-1775347140@unidadepastoralcoimbra.com
SUMMARY:Vigília Pascal em S. José e S. João Baptista às 21h30
DESCRIPTION:
URL:https://unidadepastoralcoimbra.com/calendario/vigilia-pascal-em-s-jose-e-s-joao-baptista-as-21h30/
LOCATION:Igreja São José e São João Baptista\, Coimbra\, Coimbra\, Portugal
CATEGORIES:Evento Pastoral
END:VEVENT
BEGIN:VEVENT
DTSTART;VALUE=DATE:20260405
DTEND;VALUE=DATE:20260406
DTSTAMP:20260421T082149
CREATED:20251223T115523Z
LAST-MODIFIED:20251223T115523Z
UID:7644-1775347200-1775433599@unidadepastoralcoimbra.com
SUMMARY:Domingo de Páscoa da Ressurreição do Senhor
DESCRIPTION:
URL:https://unidadepastoralcoimbra.com/calendario/domingo-de-pascoa-da-ressurreicao-do-senhor-2/
LOCATION:Igreja São José e São João Baptista\, Coimbra\, Coimbra\, Portugal
CATEGORIES:Missas
END:VEVENT
BEGIN:VEVENT
DTSTART;VALUE=DATE:20260405
DTEND;VALUE=DATE:20260406
DTSTAMP:20260421T082149
CREATED:20260330T132234Z
LAST-MODIFIED:20260330T132234Z
UID:8370-1775347200-1775433599@unidadepastoralcoimbra.com
SUMMARY:Domingo de Páscoa - Missas nos horários habituais
DESCRIPTION:
URL:https://unidadepastoralcoimbra.com/calendario/domingo-de-pascoa-missas-nos-horarios-habituais/
LOCATION:Igreja São José e São João Baptista\, Coimbra\, Coimbra\, Portugal
CATEGORIES:Missas
END:VEVENT
BEGIN:VEVENT
DTSTART;VALUE=DATE:20260406
DTEND;VALUE=DATE:20260407
DTSTAMP:20260421T082149
CREATED:20251223T115551Z
LAST-MODIFIED:20251223T115551Z
UID:7645-1775433600-1775519999@unidadepastoralcoimbra.com
SUMMARY:Segunda-Feira na Oitava da Páscoa
DESCRIPTION:
URL:https://unidadepastoralcoimbra.com/calendario/segunda-feira-na-oitava-da-pascoa/
LOCATION:Igreja São José e São João Baptista\, Coimbra\, Coimbra\, Portugal
CATEGORIES:Missas
END:VEVENT
BEGIN:VEVENT
DTSTART;VALUE=DATE:20260407
DTEND;VALUE=DATE:20260408
DTSTAMP:20260421T082149
CREATED:20251223T115624Z
LAST-MODIFIED:20251223T115624Z
UID:7648-1775520000-1775606399@unidadepastoralcoimbra.com
SUMMARY:Terça-Feira na Oitava da Páscoa
DESCRIPTION:
URL:https://unidadepastoralcoimbra.com/calendario/terca-feira-na-oitava-da-pascoa/
LOCATION:Igreja São José e São João Baptista\, Coimbra\, Coimbra\, Portugal
CATEGORIES:Missas
END:VEVENT
BEGIN:VEVENT
DTSTART;VALUE=DATE:20260408
DTEND;VALUE=DATE:20260409
DTSTAMP:20260421T082149
CREATED:20251223T115708Z
LAST-MODIFIED:20251223T115708Z
UID:7651-1775606400-1775692799@unidadepastoralcoimbra.com
SUMMARY:Quarta-Feira na Oitava da Páscoa
DESCRIPTION:
URL:https://unidadepastoralcoimbra.com/calendario/quarta-feira-na-oitava-da-pascoa/
LOCATION:Igreja São José e São João Baptista\, Coimbra\, Coimbra\, Portugal
CATEGORIES:Missas
END:VEVENT
BEGIN:VEVENT
DTSTART;VALUE=DATE:20260409
DTEND;VALUE=DATE:20260410
DTSTAMP:20260421T082149
CREATED:20251223T115728Z
LAST-MODIFIED:20251223T115728Z
UID:7649-1775692800-1775779199@unidadepastoralcoimbra.com
SUMMARY:Quinta-Feira na Oitava da Páscoa
DESCRIPTION:
URL:https://unidadepastoralcoimbra.com/calendario/quinta-feira-na-oitava-da-pascoa/
LOCATION:Igreja São José e São João Baptista\, Coimbra\, Coimbra\, Portugal
CATEGORIES:Missas
END:VEVENT
BEGIN:VEVENT
DTSTART;VALUE=DATE:20260410
DTEND;VALUE=DATE:20260411
DTSTAMP:20260421T082149
CREATED:20251223T115813Z
LAST-MODIFIED:20251223T115813Z
UID:7654-1775779200-1775865599@unidadepastoralcoimbra.com
SUMMARY:Sexta-Feira na Oitava da Páscoa
DESCRIPTION:
URL:https://unidadepastoralcoimbra.com/calendario/sexta-feira-na-oitava-da-pascoa/
LOCATION:Igreja São José e São João Baptista\, Coimbra\, Coimbra\, Portugal
CATEGORIES:Missas
END:VEVENT
BEGIN:VEVENT
DTSTART;VALUE=DATE:20260411
DTEND;VALUE=DATE:20260412
DTSTAMP:20260421T082149
CREATED:20251223T115839Z
LAST-MODIFIED:20251223T115839Z
UID:7655-1775865600-1775951999@unidadepastoralcoimbra.com
SUMMARY:Sábado na Oitava da Páscoa
DESCRIPTION:
URL:https://unidadepastoralcoimbra.com/calendario/sabado-na-oitava-da-pascoa/
LOCATION:Igreja São José e São João Baptista\, Coimbra\, Coimbra\, Portugal
CATEGORIES:Missas
END:VEVENT
BEGIN:VEVENT
DTSTART;VALUE=DATE:20260412
DTEND;VALUE=DATE:20260413
DTSTAMP:20260421T082149
CREATED:20251223T115911Z
LAST-MODIFIED:20251223T115911Z
UID:7658-1775952000-1776038399@unidadepastoralcoimbra.com
SUMMARY:Domingo II da Páscoa ou da Divina Misericórdia
DESCRIPTION:
URL:https://unidadepastoralcoimbra.com/calendario/domingo-ii-da-pascoa-ou-da-divina-misericordia/
LOCATION:Igreja São José e São João Baptista\, Coimbra\, Coimbra\, Portugal
CATEGORIES:Missas
END:VEVENT
BEGIN:VEVENT
DTSTART;VALUE=DATE:20260413
DTEND;VALUE=DATE:20260414
DTSTAMP:20260421T082149
CREATED:20251223T120014Z
LAST-MODIFIED:20251223T120014Z
UID:7660-1776038400-1776124799@unidadepastoralcoimbra.com
SUMMARY:Segunda-Feira da Semana II da Páscoa
DESCRIPTION:
URL:https://unidadepastoralcoimbra.com/calendario/segunda-feira-da-semana-ii-da-pascoa/
LOCATION:Igreja São José e São João Baptista\, Coimbra\, Coimbra\, Portugal
CATEGORIES:Missas
END:VEVENT
BEGIN:VEVENT
DTSTART;VALUE=DATE:20260414
DTEND;VALUE=DATE:20260415
DTSTAMP:20260421T082149
CREATED:20251223T120038Z
LAST-MODIFIED:20251223T120038Z
UID:7661-1776124800-1776211199@unidadepastoralcoimbra.com
SUMMARY:Terça-Feira da Semana II da Páscoa
DESCRIPTION:
URL:https://unidadepastoralcoimbra.com/calendario/terca-feira-da-semana-ii-da-pascoa/
LOCATION:Igreja São José e São João Baptista\, Coimbra\, Coimbra\, Portugal
CATEGORIES:Missas
END:VEVENT
BEGIN:VEVENT
DTSTART;TZID=UTC:20260414T213000
DTEND;TZID=UTC:20260414T235900
DTSTAMP:20260421T082149
CREATED:20260410T132407Z
LAST-MODIFIED:20260410T132407Z
UID:8431-1776202200-1776211140@unidadepastoralcoimbra.com
SUMMARY:Reunião da Efap
DESCRIPTION:
URL:https://unidadepastoralcoimbra.com/calendario/reuniao-da-efap-10/
LOCATION:Igreja São José\, Coimbra\, Coimbra\, Portugal
CATEGORIES:Evento Comunitário
END:VEVENT
BEGIN:VEVENT
DTSTART;VALUE=DATE:20260415
DTEND;VALUE=DATE:20260416
DTSTAMP:20260421T082149
CREATED:20251223T120114Z
LAST-MODIFIED:20251223T120114Z
UID:7664-1776211200-1776297599@unidadepastoralcoimbra.com
SUMMARY:Quarta-Feira da Semana II da Páscoa
DESCRIPTION:
URL:https://unidadepastoralcoimbra.com/calendario/quarta-feira-da-semana-ii-da-pascoa/
LOCATION:Igreja São José e São João Baptista\, Coimbra\, Coimbra\, Portugal
CATEGORIES:Missas
END:VEVENT
BEGIN:VEVENT
DTSTART;TZID=UTC:20260415T210000
DTEND;TZID=UTC:20260415T235900
DTSTAMP:20260421T082149
CREATED:20260410T132518Z
LAST-MODIFIED:20260410T132518Z
UID:8434-1776286800-1776297540@unidadepastoralcoimbra.com
SUMMARY:Reunião do Conselho económico da paróquia de São João Baptista
DESCRIPTION:
URL:https://unidadepastoralcoimbra.com/calendario/reuniao-do-conselho-economico-da-paroquia-de-sao-joao-baptista/
LOCATION:Igreja São João Baptista\, Rua Quinta da Portela\, Lote 5.2 3030-509 Coimbra\, Coimbra\, Coimbra\, 3030-509\, Portugal
CATEGORIES:Evento Comunitário
END:VEVENT
BEGIN:VEVENT
DTSTART;VALUE=DATE:20260416
DTEND;VALUE=DATE:20260417
DTSTAMP:20260421T082149
CREATED:20251223T120135Z
LAST-MODIFIED:20251223T120135Z
UID:7665-1776297600-1776383999@unidadepastoralcoimbra.com
SUMMARY:Quinta-Feira da Semana II da Páscoa
DESCRIPTION:
URL:https://unidadepastoralcoimbra.com/calendario/quinta-feira-da-semana-ii-da-pascoa/
LOCATION:Igreja São José e São João Baptista\, Coimbra\, Coimbra\, Portugal
CATEGORIES:Missas
END:VEVENT
BEGIN:VEVENT
DTSTART;TZID=UTC:20260416T183000
DTEND;TZID=UTC:20260416T203000
DTSTAMP:20260421T082149
CREATED:20260410T132724Z
LAST-MODIFIED:20260410T132724Z
UID:8436-1776364200-1776371400@unidadepastoralcoimbra.com
SUMMARY:Início do Curso de Cristandade de Mulheres\, na Praia de Mira
DESCRIPTION:
URL:https://unidadepastoralcoimbra.com/calendario/inicio-do-curso-de-cristandade-de-mulheres-na-praia-de-mira/
LOCATION:Coimbra
CATEGORIES:Evento Comunitário
END:VEVENT
BEGIN:VEVENT
DTSTART;TZID=UTC:20260416T210000
DTEND;TZID=UTC:20260416T230000
DTSTAMP:20260421T082149
CREATED:20260410T133052Z
LAST-MODIFIED:20260410T133052Z
UID:8437-1776373200-1776380400@unidadepastoralcoimbra.com
SUMMARY:Catequese de Adultos: Percurso Nicodemos
DESCRIPTION:
URL:https://unidadepastoralcoimbra.com/calendario/catequese-de-adultos-percurso-nicodemos-2/
LOCATION:Igreja São José\, Coimbra\, Coimbra\, Portugal
CATEGORIES:Evento Comunitário
END:VEVENT
BEGIN:VEVENT
DTSTART;TZID=UTC:20260416T210000
DTEND;TZID=UTC:20260416T235900
DTSTAMP:20260421T082149
CREATED:20260410T133130Z
LAST-MODIFIED:20260410T133130Z
UID:8438-1776373200-1776383940@unidadepastoralcoimbra.com
SUMMARY:Reunião do Conselho económico da paróquia de São José
DESCRIPTION:
URL:https://unidadepastoralcoimbra.com/calendario/reuniao-do-conselho-economico-da-paroquia-de-sao-jose/
LOCATION:Igreja São José\, Coimbra\, Coimbra\, Portugal
CATEGORIES:Evento Comunitário
END:VEVENT
BEGIN:VEVENT
DTSTART;VALUE=DATE:20260417
DTEND;VALUE=DATE:20260418
DTSTAMP:20260421T082149
CREATED:20251223T120203Z
LAST-MODIFIED:20251223T120203Z
UID:7668-1776384000-1776470399@unidadepastoralcoimbra.com
SUMMARY:Sexta-Feira da Semana II da Páscoa
DESCRIPTION:
URL:https://unidadepastoralcoimbra.com/calendario/sexta-feira-da-semana-ii-da-pascoa/
LOCATION:Igreja São José e São João Baptista\, Coimbra\, Coimbra\, Portugal
CATEGORIES:Missas
END:VEVENT
BEGIN:VEVENT
DTSTART;TZID=UTC:20260417T203000
DTEND;TZID=UTC:20260417T223000
DTSTAMP:20260421T082149
CREATED:20260410T133517Z
LAST-MODIFIED:20260410T133517Z
UID:8443-1776457800-1776465000@unidadepastoralcoimbra.com
SUMMARY:5ª Sessão dos Percursos Alpha em Ambas as Paróquias
DESCRIPTION:
URL:https://unidadepastoralcoimbra.com/calendario/5a-sessao-dos-percursos-alpha-em-ambas-as-paroquias/
LOCATION:Igreja São José e São João Baptista\, Coimbra\, Coimbra\, Portugal
CATEGORIES:Evento Comunitário
END:VEVENT
BEGIN:VEVENT
DTSTART;TZID=UTC:20260417T211500
DTEND;TZID=UTC:20260417T230000
DTSTAMP:20260421T082149
CREATED:20260410T133555Z
LAST-MODIFIED:20260410T133555Z
UID:8447-1776460500-1776466800@unidadepastoralcoimbra.com
SUMMARY:Reunião de Catequistas do Crisma do Arciprestado de Coimbra Urbana\, numa das salas da igreja de São José
DESCRIPTION:
URL:https://unidadepastoralcoimbra.com/calendario/reuniao-de-catequistas-do-crisma-do-arciprestado-de-coimbra-urbana-numa-das-salas-da-igreja-de-sao-jose/
LOCATION:Igreja São José\, Coimbra\, Coimbra\, Portugal
END:VEVENT
BEGIN:VEVENT
DTSTART;VALUE=DATE:20260418
DTEND;VALUE=DATE:20260419
DTSTAMP:20260421T082149
CREATED:20251223T120223Z
LAST-MODIFIED:20251223T120223Z
UID:7669-1776470400-1776556799@unidadepastoralcoimbra.com
SUMMARY:Sábado da Semana II da Páscoa
DESCRIPTION:
URL:https://unidadepastoralcoimbra.com/calendario/sabado-da-semana-ii-da-pascoa/
LOCATION:Igreja São José e São João Baptista\, Coimbra\, Coimbra\, Portugal
CATEGORIES:Missas
END:VEVENT
END:VCALENDAR